BEGIN:VCALENDAR
VERSION:2.0
PRODID:-//Emerald Hills Institute - ECPv6.0.1.1//NONSGML v1.0//EN
CALSCALE:GREGORIAN
METHOD:PUBLISH
X-WR-CALNAME:Emerald Hills Institute
X-ORIGINAL-URL:https://emeraldhillsinstitute.org
X-WR-CALDESC:Events for Emerald Hills Institute
REFRESH-INTERVAL;VALUE=DURATION:PT1H
X-Robots-Tag:noindex
X-PUBLISHED-TTL:PT1H
BEGIN:VTIMEZONE
TZID:America/Denver
BEGIN:DAYLIGHT
TZOFFSETFROM:-0700
TZOFFSETTO:-0600
TZNAME:MDT
DTSTART:20250309T090000
END:DAYLIGHT
BEGIN:STANDARD
TZOFFSETFROM:-0600
TZOFFSETTO:-0700
TZNAME:MST
DTSTART:20251102T080000
END:STANDARD
END:VTIMEZONE
BEGIN:VEVENT
DTSTART;TZID=America/Denver:20250508T180000
DTEND;TZID=America/Denver:20250508T193000
DTSTAMP:20260421T174544
CREATED:20250418T161004Z
LAST-MODIFIED:20250418T161004Z
UID:30942-1746727200-1746732600@emeraldhillsinstitute.org
SUMMARY:A Conversation on Maternal Health | May 8
DESCRIPTION:  \n  \nDid you know that postpartum depression\, anxiety\, and chronic stress are among the leading contributors to maternal deaths in Utah\, most often due to suicide or accidental overdose? \nThese tragedies are preventable. With awareness\, support\, and the right tools\, we can make a difference. \nJoin us for a meaningful and practical training designed for women and faith group leaders who want to understand and respond to maternal mental health needs in their communities. \nIn this session\, you will: \n✔️ Gain a deeper understanding of maternal mental health and why it matters \n✔️ Explore the unique challenges faced by Utah mothers \n✔️ Learn how faith communities can play a powerful role in providing support \n✔️ Recognize early signs of mental health struggles in moms \n✔️ Know what to say—and where to turn—for help and resources \nTogether\, we can be part of the solution. Let’s build a stronger\, more compassionate support system for Utah moms. \nEvent Address: 6715 S 1300 E\, Suite 100\, Cottonwood Heights\, UT\, 84121 \nContact us at info@emeraldhillsinstitute.org\nFor registration\, Click Here \nMay 8\, 2025 \n6:00 pm – 7:30 pm
URL:https://emeraldhillsinstitute.org/events/a-conversation-on-maternal-health-may-8/
LOCATION:6715 S 1300 E\, Suite 100\, Cottonwood Heights\, UT\, 84121
CATEGORIES:Panels
ATTACH;FMTTYPE=image/jpeg:https://emeraldhillsinstitute.org/wp-content/uploads/2025/04/WhatsApp-Image-2025-04-16-at-3.33.32-PM.jpeg
END:VEVENT
BEGIN:VEVENT
DTSTART;TZID=America/Denver:20250509T170000
DTEND;TZID=America/Denver:20250509T190000
DTSTAMP:20260421T174544
CREATED:20250418T161153Z
LAST-MODIFIED:20250418T161843Z
UID:30945-1746810000-1746817200@emeraldhillsinstitute.org
SUMMARY:Kintsugi – The Art of Embracing Imperfection | May 9-10
DESCRIPTION:  \nWe are excited to invite you to a unique and meaningful Kintsugi Workshop\, where you’ll explore the ancient Japanese art of repairing broken pottery with gold — transforming cracks into symbols of resilience and beauty. \nWhat to Bring: \nPlease bring a ceramic bowl\, cup\, or small dish that you wouldn’t mind breaking and gluing back together. This item will become a personal piece of art through the Kintsugi process. All other materials will be provided. \nNo prior experience is necessary — just an open heart and a willingness to see the beauty in imperfection. \nWe look forward to sharing this reflective and creative experience with you. \nEvent Details: \nThis workshop requires participants to attend 2 sessions. Participants will bring their own ceramic bowl to break (any size is fine.) \nSession 1 \nMay 9\, 5-7 p.m.   \nLearn about the Kintsugi art form and create your own Kintsugi bowl. Bowls will be left overnight to dry/set. \nSession 2: \nMay 10\, 5-6 p.m.   \nGroup social and sharing the experience/meaning of each Kintsugi bowl. Take home bowls. \nAddress: 6715 S 1300 E Ste:100 Cottonwood Heights\, UT 84121 \nMust be 18 years or older. No childcare services will be available. \nEmail info@emeraldhillsinstitute.org with questions \nCost: $20 Suggested donation \nFor Registration: Click Here \nIf you have any questions\, please feel free to reach out to us atinfo@emeraldhillsinstitute.org.
URL:https://emeraldhillsinstitute.org/events/kintsugi-the-art-of-embracing-imperfection-may-9-10/
LOCATION:6715 S 1300 E Ste:100  Cottonwood Heights\, UT 84121
CATEGORIES:Panels
ATTACH;FMTTYPE=image/jpeg:https://emeraldhillsinstitute.org/wp-content/uploads/2025/04/WhatsApp-Image-2025-04-16-at-3.52.01-PM.jpeg
END:VEVENT
BEGIN:VEVENT
DTSTART;TZID=America/Denver:20250531T160000
DTEND;TZID=America/Denver:20250531T210000
DTSTAMP:20260421T174544
CREATED:20250218T035449Z
LAST-MODIFIED:20250422T224527Z
UID:30561-1748707200-1748725200@emeraldhillsinstitute.org
SUMMARY:Save the Date for the 22nd Multicultural Ethnic Dance Festival | May 31
DESCRIPTION:  \n  \nJoin Us for an Unforgettable Evening of Dance\, Culture\, and Community! \n  \n THE 22ND MULTICULTURAL ETHNIC DANCE FESTIVAL  \n Bridging Cultures Through Dance  \n\n Date: May 31\n Time: 4 PM – 9 PM\n Location: The Gateway – Olympic Legacy Plaza\, 18 N Rio Grande St\, Salt Lake City\, UT\n Contact: festival@emeraldhillsinstitute.org\n\nGet your free ticket here \n  \nGet ready for an electrifying evening of vibrant cultural performances\, live music\, and dynamic dance groups representing traditions from around the world! This free community event celebrates the power of dance to connect us all\, featuring talented performers in colorful traditional attire\, mesmerizing rhythms\, and an atmosphere of joy and unity. \n  \nWhat to Expect: \n Breathtaking dance performances from distinct cultures \n Live music and entertainment \n Family-friendly atmosphere \n A celebration of culture and heritage \nDon’t miss this spectacular event! Mark your calendars\, bring your friends and family\, and let’s celebrate culture through movement and music. \n  \nWe thank our granters for making this celebration possible.  \n\nSalt Lake County Tier II Funding – Zoo\, Arts & Parks (ZAP)\nUtah Division of Arts and Museums \nSalt Lake City Art\, Culture\, Entertainment (ACE) Funding \nEmerald Hills Institute\n\n 
URL:https://emeraldhillsinstitute.org/events/save-the-date-for-the-22nd-multicultural-ethnic-dance-festival-may-31/
LOCATION:The Gateway – Olympic Legacy Plaza\, 18 N Rio Grande St\, Salt Lake City\, UT\, The Gateway – Olympic Legacy Plaza\, 18 N Rio Grande St\, Salt Lake City\, UT\, 84101
CATEGORIES:Festival
ATTACH;FMTTYPE=image/jpeg:https://emeraldhillsinstitute.org/wp-content/uploads/2025/02/WhatsApp-Image-2025-02-17-at-9.50.50-PM.jpeg
END:VEVENT
END:VCALENDAR